BEGIN:VCALENDAR
VERSION:2.0
PRODID:-//ActiveBury//Events//EN
CALSCALE:GREGORIAN
BEGIN:VEVENT
UID:event-999@activebury.com
DTSTAMP:20260425T133815Z
SUMMARY:CHARITY SEW PRINCESS ANNE Monday
DTSTART:20260112T100000
LOCATION:Princess Anne
DESCRIPTION:\, January 12th at 10am Join this group in sewing items to donate to Somerset County Social Services. Can't join in person? No worries\, we will have patterns available for pick up on a first come\, first serve basis at the Princess Anne circulation desk.\nMore info: https://drive.google.com/file/d/1zZqzELj_ZR73Axbn27gdjOUi8Qkv_iL5/view?usp=sharing\nActiveBury: https://www.activebury.com/events/999
URL:https://www.activebury.com/events/999
END:VEVENT
END:VCALENDAR
