BEGIN:VCALENDAR
VERSION:2.0
PRODID:-//ActiveBury//Events//EN
CALSCALE:GREGORIAN
BEGIN:VEVENT
UID:event-996@activebury.com
DTSTAMP:20260425T133831Z
SUMMARY:WOOD BLOCK PENGUIN PRINCESS ANNE Wednesday
DTSTART:20260107T110000
LOCATION:Princess Anne
DESCRIPTION:\, January 7th at 11am Use a wood block\, paint\, and fabrics to create your very own winter penguin. Registration required.\nMore info: https://drive.google.com/file/d/1zZqzELj_ZR73Axbn27gdjOUi8Qkv_iL5/view?usp=sharing\nActiveBury: https://www.activebury.com/events/996
URL:https://www.activebury.com/events/996
END:VEVENT
END:VCALENDAR
