BEGIN:VCALENDAR
VERSION:2.0
PRODID:-//ActiveBury//Events//EN
CALSCALE:GREGORIAN
BEGIN:VEVENT
UID:event-995@activebury.com
DTSTAMP:20260425T143518Z
SUMMARY:WOOD BLOCK PENGUIN CRISFIELD Monday
DTSTART:20260105T110000
LOCATION:Crisfield
DESCRIPTION:\, January 5th at 11am Use a wood block\, paint\, and fabrics to create your very own winter penguin. Registration required.\nMore info: https://drive.google.com/file/d/1zZqzELj_ZR73Axbn27gdjOUi8Qkv_iL5/view?usp=sharing\nActiveBury: https://www.activebury.com/events/995
URL:https://www.activebury.com/events/995
END:VEVENT
END:VCALENDAR
