BEGIN:VCALENDAR
VERSION:2.0
PRODID:-//ActiveBury//Events//EN
CALSCALE:GREGORIAN
BEGIN:VEVENT
UID:event-98@activebury.com
DTSTAMP:20260425T133247Z
SUMMARY:Lone Star Rodeo
DTSTART;VALUE=DATE:20260124
DTEND;VALUE=DATE:20260125
LOCATION:Wicomico County
DESCRIPTION:More info: https://www.wicomicociviccenter.org/schedule-of-events/lone-star-rodeo-ready-to-ride-tour\nActiveBury: https://www.activebury.com/events/98
URL:https://www.activebury.com/events/98
END:VEVENT
END:VCALENDAR
