BEGIN:VCALENDAR
VERSION:2.0
PRODID:-//ActiveBury//Events//EN
CALSCALE:GREGORIAN
BEGIN:VEVENT
UID:event-97@activebury.com
DTSTAMP:20260425T133253Z
SUMMARY:Bingomania
DTSTART;VALUE=DATE:20260117
DTEND;VALUE=DATE:20260118
LOCATION:Wicomico County
DESCRIPTION:More info: https://www.wicomicociviccenter.org/schedule-of-events/bingomania\nActiveBury: https://www.activebury.com/events/97
URL:https://www.activebury.com/events/97
END:VEVENT
END:VCALENDAR
