BEGIN:VCALENDAR
VERSION:2.0
PRODID:-//ActiveBury//Events//EN
CALSCALE:GREGORIAN
BEGIN:VEVENT
UID:event-96@activebury.com
DTSTAMP:20260425T134255Z
SUMMARY:Adventures In The Shire - D&D 5E
DTSTART:20260131T143000
DTEND:20260131T163000
LOCATION:Centre Branch
DESCRIPTION:This event is in the "Ages 18+" group 2:30pm–4:30pm Ages 18+ Centre Branch Open Registration Available This event is in the "Ages 18+" group Jan 31 2026 Sat Adventures In The Shire - D&D 5E 2:30pm–4:30pm Centre Branch Open Centre Branch The Space at Centre Ages 18+ Games Registration Available Come celebrate the re-release of the original Lord of the Rings films at the Centre Branch!\nMore info: https://www.wicomicolibrary.org/event/adventures-shire-dd-5e-23053\nActiveBury: https://www.activebury.com/events/96
URL:https://www.activebury.com/events/96
END:VEVENT
END:VCALENDAR
