BEGIN:VCALENDAR
VERSION:2.0
PRODID:-//ActiveBury//Events//EN
CALSCALE:GREGORIAN
BEGIN:VEVENT
UID:event-95@activebury.com
DTSTAMP:20260425T183238Z
SUMMARY:Slime-stravaganza!
DTSTART:20260131T140000
DTEND:20260131T153000
LOCATION:Paul S. Sarbanes Branch
DESCRIPTION:This event is in the "Ages 6-11" group 2:00pm–3:30pm Ages 6-11 Paul S. Sarbanes Branch Open Registration Available This event is in the "Ages 6-11" group Jan 31 2026 Sat Slime-stravaganza! 2:00pm–3:30pm Paul S. Sarbanes Branch Open Paul S. Sarbanes Branch Room 1 Ages 6-11 STEM Registration Available It’s Slime Time! (s) Attending Children Children under 8 must be monitored by a guardian who is at least 13 years old to assure the safety and behavior of that child. Children ages 8 and older may visit the library independently provided they are able to care for themselves and are able to understand and follow the Library’s Behavior Guidelines.\nMore info: https://www.wicomicolibrary.org/event/slime-stravaganza-21638\nActiveBury: https://www.activebury.com/events/95
URL:https://www.activebury.com/events/95
END:VEVENT
END:VCALENDAR
