BEGIN:VCALENDAR
VERSION:2.0
PRODID:-//ActiveBury//Events//EN
CALSCALE:GREGORIAN
BEGIN:VEVENT
UID:event-92@activebury.com
DTSTAMP:20260425T133741Z
SUMMARY:Secrets and Second Chances with Liz Moore
DTSTART:20260128T190000
DTEND:20260128T200000
LOCATION:Virtual
DESCRIPTION:This event is in the "Ages 18+" group 7:00pm–8:00pm Ages 18+ Virtual Virtual Event This event is in the "Ages 18+" group Jan 28 2026 Wed Secrets and Second Chances with Liz Moore 7:00pm–8:00pm Virtual Please note you are looking at an event that has already happened. Virtual Ages 18+ Book Discussion \, Guest Speaker or Performance \, Virtual Author Talk We are thrilled to welcome Liz Moore to discuss her latest work\, The God of the Woods \, an instant New York Times bestseller and one of NPR’s 2024 “Books We Love” highlights.\nMore info: https://www.wicomicolibrary.org/event/secrets-and-second-chances-liz-moore-22362\nActiveBury: https://www.activebury.com/events/92
URL:https://www.activebury.com/events/92
END:VEVENT
END:VCALENDAR
