BEGIN:VCALENDAR
VERSION:2.0
PRODID:-//ActiveBury//Events//EN
CALSCALE:GREGORIAN
BEGIN:VEVENT
UID:event-9@activebury.com
DTSTAMP:20260425T133248Z
SUMMARY:Young Achievers Learning Center
DTSTART:20260105T090000
DTEND:20260105T100000
LOCATION:Bookmobile
DESCRIPTION:This event is in the "Everyone" group 9:00am–10:00am Everyone Bookmobile Offsite Event This event is in the "Everyone" group Jan 5 2026 Mon Young Achievers Learning Center 9:00am–10:00am Bookmobile Please note you are looking at an event that has already happened. Bookmobile Everyone 32085 Beaver Run Dr.\nMore info: https://www.wicomicolibrary.org/event/young-achievers-learning-center-20271\nActiveBury: https://www.activebury.com/events/9
URL:https://www.activebury.com/events/9
END:VEVENT
END:VCALENDAR
