BEGIN:VCALENDAR
VERSION:2.0
PRODID:-//ActiveBury//Events//EN
CALSCALE:GREGORIAN
BEGIN:VEVENT
UID:event-89@activebury.com
DTSTAMP:20260425T133250Z
SUMMARY:Northwestern School
DTSTART:20260128T090000
DTEND:20260128T150000
LOCATION:Bookmobile
DESCRIPTION:This event is in the "Everyone" group 9:00am–3:00pm Everyone Bookmobile Offsite Event This event is in the "Everyone" group Jan 28 2026 Wed Northwestern School 9:00am–3:00pm Bookmobile Bookmobile Everyone 9975 Sharptown Rd.\nMore info: https://www.wicomicolibrary.org/event/northwestern-school-20189\nActiveBury: https://www.activebury.com/events/89
URL:https://www.activebury.com/events/89
END:VEVENT
END:VCALENDAR
