BEGIN:VCALENDAR
VERSION:2.0
PRODID:-//ActiveBury//Events//EN
CALSCALE:GREGORIAN
BEGIN:VEVENT
UID:event-87@activebury.com
DTSTAMP:20260425T133249Z
SUMMARY:Westside Community Center
DTSTART:20260127T140000
DTEND:20260127T150000
LOCATION:Bookmobile
DESCRIPTION:This event is in the "Everyone" group 2:00pm–3:00pm Everyone Bookmobile Offsite Event This event is in the "Everyone" group Jan 27 2026 Tue Westside Community Center 2:00pm–3:00pm Bookmobile Bookmobile Everyone 21109 Bivalve Lodge Road\, Bivalve\nMore info: https://www.wicomicolibrary.org/event/westside-community-center-20209\nActiveBury: https://www.activebury.com/events/87
URL:https://www.activebury.com/events/87
END:VEVENT
END:VCALENDAR
