BEGIN:VCALENDAR
VERSION:2.0
PRODID:-//ActiveBury//Events//EN
CALSCALE:GREGORIAN
BEGIN:VEVENT
UID:event-86@activebury.com
DTSTAMP:20260425T133743Z
SUMMARY:It's Storytime @ The Centre
DTSTART:20260127T110000
DTEND:20260127T113000
LOCATION:Centre Branch
DESCRIPTION:This event is in the "Ages 0-5" group 11:00am–11:30am Ages 0-5 Centre Branch This event is in the "Ages 0-5" group Jan 27 2026 Tue It's Storytime @ The Centre 11:00am–11:30am Centre Branch Please note you are looking at an event that has already happened. Centre Branch The Storybook Room Ages 0-5 Arts and Crafts \, Storytime Come join us for stories\, games and crafts at the Centre Branch! Every 1st and 3rd Tuesday of the month for ages 0-3! (s) Attending Children Children under 8 must be monitored by a guardian who is at least 13 years old to assure the safety and behavior of that child. Children ages 8 and older may visit the library independently provided they are able to care for themselves and are able to understand and follow the Library’s Behavior Guidelines.\nMore info: https://www.wicomicolibrary.org/event/its-storytime-centre-21776\nActiveBury: https://www.activebury.com/events/86
URL:https://www.activebury.com/events/86
END:VEVENT
END:VCALENDAR
