BEGIN:VCALENDAR
VERSION:2.0
PRODID:-//ActiveBury//Events//EN
CALSCALE:GREGORIAN
BEGIN:VEVENT
UID:event-851@activebury.com
DTSTAMP:20260425T143058Z
SUMMARY:Show All
DTSTART:20260108T090000
DTEND:20260108T170000
DESCRIPTION:More info: https://worcesterlibrary.libcal.com/calendar/Library_Events\nActiveBury: https://www.activebury.com/events/851
URL:https://www.activebury.com/events/851
END:VEVENT
END:VCALENDAR
