BEGIN:VCALENDAR
VERSION:2.0
PRODID:-//ActiveBury//Events//EN
CALSCALE:GREGORIAN
BEGIN:VEVENT
UID:event-85@activebury.com
DTSTAMP:20260425T133250Z
SUMMARY:Westside Primary School
DTSTART:20260127T091500
DTEND:20260127T134500
LOCATION:Bookmobile
DESCRIPTION:This event is in the "Everyone" group 9:15am–1:45pm Everyone Bookmobile Offsite Event This event is in the "Everyone" group Jan 27 2026 Tue Westside Primary School 9:15am–1:45pm Bookmobile Bookmobile Everyone 600 Quantico Rd.\, Quantico\nMore info: https://www.wicomicolibrary.org/event/westside-primary-school-20180\nActiveBury: https://www.activebury.com/events/85
URL:https://www.activebury.com/events/85
END:VEVENT
END:VCALENDAR
