BEGIN:VCALENDAR
VERSION:2.0
PRODID:-//ActiveBury//Events//EN
CALSCALE:GREGORIAN
BEGIN:VEVENT
UID:event-844@activebury.com
DTSTAMP:20260425T133310Z
SUMMARY:Pasta Making Workshop
DTSTART:20260114T140000
DTEND:20260114T153000
LOCATION:Berlin Meeting Room Branch: Berlin Branch Audience: Adults Categories: Class/Workshop
DESCRIPTION:Chef Laurie Boucher will demonstrate how to make a traditional eggless dough by hand\, then guide you in shaping pre-prepared dough into beautiful southern-style pasta using simple tools. You’ll take home enough pasta to serve two adults\, along with cooking and storage instructions.\nMore info: https://worcesterlibrary.libcal.com/event/15055637?hs=a\nActiveBury: https://www.activebury.com/events/844
URL:https://www.activebury.com/events/844
END:VEVENT
END:VCALENDAR
