BEGIN:VCALENDAR
VERSION:2.0
PRODID:-//ActiveBury//Events//EN
CALSCALE:GREGORIAN
BEGIN:VEVENT
UID:event-843@activebury.com
DTSTAMP:20260425T133328Z
SUMMARY:MSO-101: Demystifying the Symphony
DTSTART:20260114T140000
DTEND:20260114T150000
LOCATION:Ocean Pines Large Meeting Room Branch: Ocean Pines Branch Audience: Adults Categories: Class/Workshop Music
DESCRIPTION:This is the second class of a four-session course that familiarizes attendees with the music\, etiquette\, and experience of contemporary orchestras. Light refreshments served. Held Wednesdays in January. Sponsored by the Mid-Atlantic Symphony Orchestra and FOPL. Registration required. 410-208-4014.\nMore info: https://worcesterlibrary.libcal.com/event/14879788?hs=a\nActiveBury: https://www.activebury.com/events/843
URL:https://www.activebury.com/events/843
END:VEVENT
END:VCALENDAR
