BEGIN:VCALENDAR
VERSION:2.0
PRODID:-//ActiveBury//Events//EN
CALSCALE:GREGORIAN
BEGIN:VEVENT
UID:event-841@activebury.com
DTSTAMP:20260425T133832Z
SUMMARY:Book Club at Snow Hill 50 Plus Center
DTSTART:20260114T110000
DTEND:20260114T130000
LOCATION:Offsite - See Description Branch: Snow Hill Branch Audience: Adults Categories: Discussion
DESCRIPTION:The Only Woman in the Room by Marie Benedict. Snow Hill 50plus Center: 4767 Snow Hill Rd\, Snow Hill. Stop by Snow Hill Library or the 50+ Center to pick up your Book\, then meet for a great discussion. For more information contact the Snow Hill Branch at 410-632-3495.\nMore info: https://worcesterlibrary.libcal.com/event/14977107?hs=a\nActiveBury: https://www.activebury.com/events/841
URL:https://www.activebury.com/events/841
END:VEVENT
END:VCALENDAR
