BEGIN:VCALENDAR
VERSION:2.0
PRODID:-//ActiveBury//Events//EN
CALSCALE:GREGORIAN
BEGIN:VEVENT
UID:event-84@activebury.com
DTSTAMP:20260425T133246Z
SUMMARY:Paws to Read
DTSTART:20260126T173000
DTEND:20260126T183000
LOCATION:Paul S. Sarbanes Branch
DESCRIPTION:This event is in the "Ages 0-5" group This event is in the "Ages 6-11" group Cancelled 5:30pm–6:30pm Ages 0-5\, Ages 6-11 Paul S. Sarbanes Branch Closed Registration Available This event is in the "Ages 0-5" group This event is in the "Ages 6-11" group Jan 26 2026 Mon Cancelled Paws to Read 5:30pm–6:30pm Paul S. Sarbanes Branch Closed Please note you are looking at an event that has already happened. Paul S. Sarbanes Branch Room 1 Ages 0-5 \, Ages 6-11 Class or Workshop \, Reading Challenge Registration Available Join us for Paws to Read \, a fun and engaging program where children can read aloud to a friendly dog for 5 to 10 minutes. Upon arrival\, readers can pick up a ticket that corresponds to the dog they wish to read to. (s) Attending Children Children under 8 must be monitored by a guard\nMore info: https://www.wicomicolibrary.org/event/paws-read-20987\nActiveBury: https://www.activebury.com/events/84
URL:https://www.activebury.com/events/84
END:VEVENT
END:VCALENDAR
