BEGIN:VCALENDAR
VERSION:2.0
PRODID:-//ActiveBury//Events//EN
CALSCALE:GREGORIAN
BEGIN:VEVENT
UID:event-837@activebury.com
DTSTAMP:20260425T163832Z
SUMMARY:Teen Game Night
DTSTART:20260113T163000
DTEND:20260113T173000
LOCATION:Ocean City Meeting Room Branch: Ocean City Branch Audience: 12 to 18 Categories: Games
DESCRIPTION:Test your luck and your mettle against others in games like Sorry!\, Hive\, and more. For ages 12-18. 410-524-1818\nMore info: https://worcesterlibrary.libcal.com/event/15339636?hs=a\nActiveBury: https://www.activebury.com/events/837
URL:https://www.activebury.com/events/837
END:VEVENT
END:VCALENDAR
