BEGIN:VCALENDAR
VERSION:2.0
PRODID:-//ActiveBury//Events//EN
CALSCALE:GREGORIAN
BEGIN:VEVENT
UID:event-834@activebury.com
DTSTAMP:20260425T133305Z
SUMMARY:Storytime
DTSTART:20260113T103000
DTEND:20260113T113000
LOCATION:Berlin Branch Branch: Berlin Branch Audience: Birth to 5 Families Categories: Storytime
DESCRIPTION:Join us for an all-ages story time featuring seasonal themes designed to support early literacy skills with stories\, songs\, and fingerplays. 410-641-0650.\nMore info: https://worcesterlibrary.libcal.com/event/15705486?hs=a\nActiveBury: https://www.activebury.com/events/834
URL:https://www.activebury.com/events/834
END:VEVENT
END:VCALENDAR
