BEGIN:VCALENDAR
VERSION:2.0
PRODID:-//ActiveBury//Events//EN
CALSCALE:GREGORIAN
BEGIN:VEVENT
UID:event-833@activebury.com
DTSTAMP:20260425T164300Z
SUMMARY:Story Time @ The Delmarva Discovery Museum (Registration Required)
DTSTART:20260113T103000
DTEND:20260113T113000
LOCATION:Pocomoke Branch Branch: Pocomoke Branch Audience: Birth to 5 Categories: Storytime
DESCRIPTION:Join us for stories\, songs and crafts that feature one of the DDM’s special animals. Registration required. For ages 0-5. 410-957-0878\nMore info: https://worcesterlibrary.libcal.com/event/15633533?hs=a\nActiveBury: https://www.activebury.com/events/833
URL:https://www.activebury.com/events/833
END:VEVENT
END:VCALENDAR
