BEGIN:VCALENDAR
VERSION:2.0
PRODID:-//ActiveBury//Events//EN
CALSCALE:GREGORIAN
BEGIN:VEVENT
UID:event-831@activebury.com
DTSTAMP:20260425T133909Z
SUMMARY:Board of Trustees Meeting
DTSTART:20260113T093000
DTEND:20260113T113000
LOCATION:Pocomoke Branch: Pocomoke Branch Audience: Adults Categories: Board of Trustees Meetings
DESCRIPTION:All meetings are open to the public.\nMore info: https://worcesterlibrary.libcal.com/event/16032379?hs=a\nActiveBury: https://www.activebury.com/events/831
URL:https://www.activebury.com/events/831
END:VEVENT
END:VCALENDAR
