BEGIN:VCALENDAR
VERSION:2.0
PRODID:-//ActiveBury//Events//EN
CALSCALE:GREGORIAN
BEGIN:VEVENT
UID:event-83@activebury.com
DTSTAMP:20260425T133251Z
SUMMARY:Villas at Avalon
DTSTART:20260126T120000
DTEND:20260126T124500
LOCATION:Bookmobile
DESCRIPTION:This event is in the "Everyone" group 12:00pm–12:45pm Everyone Bookmobile Offsite Event This event is in the "Everyone" group Jan 26 2026 Mon Villas at Avalon 12:00pm–12:45pm Bookmobile Bookmobile Everyone Troopers Way\nMore info: https://www.wicomicolibrary.org/event/villas-avalon-20349\nActiveBury: https://www.activebury.com/events/83
URL:https://www.activebury.com/events/83
END:VEVENT
END:VCALENDAR
