BEGIN:VCALENDAR
VERSION:2.0
PRODID:-//ActiveBury//Events//EN
CALSCALE:GREGORIAN
BEGIN:VEVENT
UID:event-828@activebury.com
DTSTAMP:20260425T133830Z
SUMMARY:Nailed It: Winter Wonderland
DTSTART:20260112T163000
DTEND:20260112T183000
LOCATION:Ocean Pines Large Meeting Room Branch: Ocean Pines Branch Audience: 12 to 18 6 to 11 Categories: Crafts Games
DESCRIPTION:Can you "nail it"? Create a winter wonderland with a partner/group using the ingredients and materials provided! Registration required. Ages 6-18. 410-208-4014\nMore info: https://worcesterlibrary.libcal.com/event/14921476?hs=a\nActiveBury: https://www.activebury.com/events/828
URL:https://www.activebury.com/events/828
END:VEVENT
END:VCALENDAR
