BEGIN:VCALENDAR
VERSION:2.0
PRODID:-//ActiveBury//Events//EN
CALSCALE:GREGORIAN
BEGIN:VEVENT
UID:event-825@activebury.com
DTSTAMP:20260425T133842Z
SUMMARY:Story Time: Stuffed Animals
DTSTART:20260112T103000
DTEND:20260112T113000
LOCATION:Ocean City Meeting Room Branch: Ocean City Branch Audience: Birth to 5 Categories: Storytime
DESCRIPTION:Join us for crafts\, songs\, and stories. For children ages 0 to 5. 410-524-1818\nMore info: https://worcesterlibrary.libcal.com/event/15340729?hs=a\nActiveBury: https://www.activebury.com/events/825
URL:https://www.activebury.com/events/825
END:VEVENT
END:VCALENDAR
