BEGIN:VCALENDAR
VERSION:2.0
PRODID:-//ActiveBury//Events//EN
CALSCALE:GREGORIAN
BEGIN:VEVENT
UID:event-824@activebury.com
DTSTAMP:20260425T133323Z
SUMMARY:Babytime
DTSTART:20260112T100000
DTEND:20260112T103000
LOCATION:Ocean Pines Large Meeting Room Branch: Ocean Pines Branch Audience: Birth to 5 Categories: Music and Movement
DESCRIPTION:Join us for songs\, giggles and a story! Ages 0-2.410-208-4014\nMore info: https://worcesterlibrary.libcal.com/event/15127093?hs=a\nActiveBury: https://www.activebury.com/events/824
URL:https://www.activebury.com/events/824
END:VEVENT
END:VCALENDAR
