BEGIN:VCALENDAR
VERSION:2.0
PRODID:-//ActiveBury//Events//EN
CALSCALE:GREGORIAN
BEGIN:VEVENT
UID:event-822@activebury.com
DTSTAMP:20260425T133830Z
SUMMARY:History-To-Go: Ciphers & Codes- MD 250
DTSTART;VALUE=DATE:20260112
DTEND;VALUE=DATE:20260113
LOCATION:Snow Hill Branch Branch: Snow Hill Branch Audience: 12 to 18 6 to 11 Adults Families Categories: Crafts History & Genealogy
DESCRIPTION:Pick up a History-to-Go kit and learn about ciphers and codes used throughout history\, and make your own cipher disk! Pick anytime between December and February at the Snow Hill branch.\nMore info: https://worcesterlibrary.libcal.com/event/15364937?hs=a\nActiveBury: https://www.activebury.com/events/822
URL:https://www.activebury.com/events/822
END:VEVENT
END:VCALENDAR
