BEGIN:VCALENDAR
VERSION:2.0
PRODID:-//ActiveBury//Events//EN
CALSCALE:GREGORIAN
BEGIN:VEVENT
UID:event-820@activebury.com
DTSTAMP:20260425T142337Z
SUMMARY:Bad Gift Trading
DTSTART:20260110T130000
DTEND:20260110T140000
LOCATION:Ocean City Meeting Room Branch: Ocean City Branch Audience: Adults Categories: Class/Workshop Discussion
DESCRIPTION:Have a gift you didn't want? Come to the library to trade with other people for their own "bad gift". Please keep all gifts PG.\nMore info: https://worcesterlibrary.libcal.com/event/15345308?hs=a\nActiveBury: https://www.activebury.com/events/820
URL:https://www.activebury.com/events/820
END:VEVENT
END:VCALENDAR
