BEGIN:VCALENDAR
VERSION:2.0
PRODID:-//ActiveBury//Events//EN
CALSCALE:GREGORIAN
BEGIN:VEVENT
UID:event-82@activebury.com
DTSTAMP:20260425T133250Z
SUMMARY:Stories and Scribbles
DTSTART:20260126T110000
DTEND:20260126T121500
LOCATION:Mobile Learning Lab
DESCRIPTION:This event is in the "Ages 0-5" group 11:00am–12:15pm Ages 0-5 Mobile Learning Lab Offsite Event This event is in the "Ages 0-5" group Jan 26 2026 Mon Stories and Scribbles 11:00am–12:15pm Mobile Learning Lab Mobile Learning Lab Ages 0-5 Arts and Crafts \, Storytime Join Mobile Services staff in the YMCA parking lot inside the Mobile Learning Lab for a special reading-themed storytime and craft session designed to spark young imaginations!\nMore info: https://www.wicomicolibrary.org/event/storytime-and-craft-20826\nActiveBury: https://www.activebury.com/events/82
URL:https://www.activebury.com/events/82
END:VEVENT
END:VCALENDAR
