BEGIN:VCALENDAR
VERSION:2.0
PRODID:-//ActiveBury//Events//EN
CALSCALE:GREGORIAN
BEGIN:VEVENT
UID:event-819@activebury.com
DTSTAMP:20260425T133845Z
SUMMARY:Muscles in Motion: Exploring the Human Body
DTSTART:20260110T110000
DTEND:20260110T120000
LOCATION:Berlin Meeting Room Branch: Berlin Branch Audience: 6 to 11 Categories: STEM
DESCRIPTION:Join us for a fun\, hands-on exploration of the muscular system and the importance of staying active! Kids will learn how muscles work and how exercise helps keep our bodies strong through exciting STEM-based activities. For ages 6-11.\nMore info: https://worcesterlibrary.libcal.com/event/15357259?hs=a\nActiveBury: https://www.activebury.com/events/819
URL:https://www.activebury.com/events/819
END:VEVENT
END:VCALENDAR
