BEGIN:VCALENDAR
VERSION:2.0
PRODID:-//ActiveBury//Events//EN
CALSCALE:GREGORIAN
BEGIN:VEVENT
UID:event-818@activebury.com
DTSTAMP:20260425T133330Z
SUMMARY:K-Pop Art
DTSTART:20260110T100000
DTEND:20260110T120000
LOCATION:Ocean Pines Large Meeting Room Branch: Ocean Pines Branch Audience: 12 to 18 6 to 11 Categories: Crafts
DESCRIPTION:Create works of art with K-Pop characters! Ages 6-18. 410-208-4014\nMore info: https://worcesterlibrary.libcal.com/event/15128403?hs=a\nActiveBury: https://www.activebury.com/events/818
URL:https://www.activebury.com/events/818
END:VEVENT
END:VCALENDAR
