BEGIN:VCALENDAR
VERSION:2.0
PRODID:-//ActiveBury//Events//EN
CALSCALE:GREGORIAN
BEGIN:VEVENT
UID:event-817@activebury.com
DTSTAMP:20260425T133845Z
SUMMARY:Snowman Scavenger Hunt
DTSTART:20260110T090000
DTEND:20260110T170000
LOCATION:Ocean Pines Branch Branch: Ocean Pines Branch Audience: Families Categories: Games
DESCRIPTION:Can you find all the snowmen in the library? Find them all and get a prize! One prize per person. For families. 410-208-4014\nMore info: https://worcesterlibrary.libcal.com/event/15367254?hs=a\nActiveBury: https://www.activebury.com/events/817
URL:https://www.activebury.com/events/817
END:VEVENT
END:VCALENDAR
