BEGIN:VCALENDAR
VERSION:2.0
PRODID:-//ActiveBury//Events//EN
CALSCALE:GREGORIAN
BEGIN:VEVENT
UID:event-814@activebury.com
DTSTAMP:20260425T133904Z
SUMMARY:Book of the Month: "Bunker Hill" by Nathaniel Philbrick
DTSTART:20260109T140000
DTEND:20260109T160000
LOCATION:Ocean Pines Conference Room Branch: Ocean Pines Branch Audience: Adults Categories: Discussion
DESCRIPTION:Copies of the book are available at the Ocean Pines Library circulation desk. 410-208-4014\nMore info: https://worcesterlibrary.libcal.com/event/14827173?hs=a\nActiveBury: https://www.activebury.com/events/814
URL:https://www.activebury.com/events/814
END:VEVENT
END:VCALENDAR
