BEGIN:VCALENDAR
VERSION:2.0
PRODID:-//ActiveBury//Events//EN
CALSCALE:GREGORIAN
BEGIN:VEVENT
UID:event-812@activebury.com
DTSTAMP:20260425T182321Z
SUMMARY:Baby Time
DTSTART:20260109T103000
DTEND:20260109T113000
LOCATION:Berlin Branch Branch: Berlin Branch Audience: Birth to 5 Categories: Storytime
DESCRIPTION:A great opportunity for babies (0-2 years) and their caregivers to socialize\, play\, read and explore in our bright play space. Drop by and make some friends! 410-641-0650.\nMore info: https://worcesterlibrary.libcal.com/event/15705981?hs=a\nActiveBury: https://www.activebury.com/events/812
URL:https://www.activebury.com/events/812
END:VEVENT
END:VCALENDAR
