BEGIN:VCALENDAR
VERSION:2.0
PRODID:-//ActiveBury//Events//EN
CALSCALE:GREGORIAN
BEGIN:VEVENT
UID:event-809@activebury.com
DTSTAMP:20260425T133253Z
SUMMARY:Yoga Basics for Beginners
DTSTART:20260108T170000
DTEND:20260108T180000
LOCATION:Pocomoke Branch Branch: Pocomoke Branch Audience: Adults Categories: Class/Workshop Health/Wellness
DESCRIPTION:In this workshop style session\, we will start by examining and practicing foundational yoga poses\, followed by a gentle sequence using what we have learned. January's focus: restoration. Please bring your own mat. 410-957-0878.\nMore info: https://worcesterlibrary.libcal.com/event/16034400?hs=a\nActiveBury: https://www.activebury.com/events/809
URL:https://www.activebury.com/events/809
END:VEVENT
END:VCALENDAR
