BEGIN:VCALENDAR
VERSION:2.0
PRODID:-//ActiveBury//Events//EN
CALSCALE:GREGORIAN
BEGIN:VEVENT
UID:event-808@activebury.com
DTSTAMP:20260425T133818Z
SUMMARY:Teen Time: DIY Snow Globe
DTSTART:20260108T153000
DTEND:20260108T180000
LOCATION:Ocean Pines Branch Branch: Ocean Pines Branch Audience: 12 to 18 Categories: Crafts
DESCRIPTION:Create a DIY snow globe to shake off those winter blues! While supplies last. 1 per person. For ages 12-18. 410-208-4014\nMore info: https://worcesterlibrary.libcal.com/event/15385854?hs=a\nActiveBury: https://www.activebury.com/events/808
URL:https://www.activebury.com/events/808
END:VEVENT
END:VCALENDAR
