BEGIN:VCALENDAR
VERSION:2.0
PRODID:-//ActiveBury//Events//EN
CALSCALE:GREGORIAN
BEGIN:VEVENT
UID:event-807@activebury.com
DTSTAMP:20260425T133816Z
SUMMARY:Merry Makers: Winter Scene Terrarium
DTSTART:20260108T140000
DTEND:20260108T160000
LOCATION:Ocean Pines Large Meeting Room Branch: Ocean Pines Branch Audience: Adults Categories: Crafts
DESCRIPTION:Using various artificial materials\, we will create a winter wonderland scene inside a mini terrarium. No watering required! Registration required\, limit 10. 410-208-4014\nMore info: https://worcesterlibrary.libcal.com/event/14914251?hs=a\nActiveBury: https://www.activebury.com/events/807
URL:https://www.activebury.com/events/807
END:VEVENT
END:VCALENDAR
