BEGIN:VCALENDAR
VERSION:2.0
PRODID:-//ActiveBury//Events//EN
CALSCALE:GREGORIAN
BEGIN:VEVENT
UID:event-805@activebury.com
DTSTAMP:20260425T133945Z
SUMMARY:OC Chess Club
DTSTART:20260108T103000
DTEND:20260108T120000
LOCATION:Ocean City Meeting Room Branch: Ocean City Branch Audience: Families Categories: Games
DESCRIPTION:Enjoy a relaxing game of chess every month at the library! 410-524-1818\nMore info: https://worcesterlibrary.libcal.com/event/15345179?hs=a\nActiveBury: https://www.activebury.com/events/805
URL:https://www.activebury.com/events/805
END:VEVENT
END:VCALENDAR
