BEGIN:VCALENDAR
VERSION:2.0
PRODID:-//ActiveBury//Events//EN
CALSCALE:GREGORIAN
BEGIN:VEVENT
UID:event-803@activebury.com
DTSTAMP:20260425T133312Z
SUMMARY:Playtime
DTSTART:20260108T100000
DTEND:20260108T110000
LOCATION:Offsite - See Description Branch: Snow Hill Branch Audience: Birth to 5 Categories: Games
DESCRIPTION:*Note time and location change for January only: 10:00-11:00 at the Worcester County Recreation Center in Snow Hill. Join us for a variety of activities and toys. Play and socialize with other families. Ages 2-5.\nMore info: https://worcesterlibrary.libcal.com/event/15292266?hs=a\nActiveBury: https://www.activebury.com/events/803
URL:https://www.activebury.com/events/803
END:VEVENT
END:VCALENDAR
