BEGIN:VCALENDAR
VERSION:2.0
PRODID:-//ActiveBury//Events//EN
CALSCALE:GREGORIAN
BEGIN:VEVENT
UID:event-80@activebury.com
DTSTAMP:20260425T133248Z
SUMMARY:Toddler Storytime
DTSTART:20260126T103000
DTEND:20260126T113000
LOCATION:Paul S. Sarbanes Branch
DESCRIPTION:This event is in the "Ages 0-5" group Cancelled 10:30am–11:30am Ages 0-5 Paul S. Sarbanes Branch Closed Registration Available This event is in the "Ages 0-5" group Jan 26 2026 Mon Cancelled Toddler Storytime 10:30am–11:30am Paul S. Sarbanes Branch Closed Please note you are looking at an event that has already happened. Paul S. Sarbanes Branch Children's Program Room Ages 0-5 Storytime Registration Available At a Glance: Wiggles welcome! Designed for ages 18–35 months \, this interactive storytime features short stories\, songs\, and movement. Meets the second and fourth Monda y of each month. (s) Attending Children Children under 8 must be monitored by a guardian who is at least 13 years old to assure the safety and behavior of that child. Children ages 8 and older may visit the library ind\nMore info: https://www.wicomicolibrary.org/event/toddler-storytime-21495\nActiveBury: https://www.activebury.com/events/80
URL:https://www.activebury.com/events/80
END:VEVENT
END:VCALENDAR
