BEGIN:VCALENDAR
VERSION:2.0
PRODID:-//ActiveBury//Events//EN
CALSCALE:GREGORIAN
BEGIN:VEVENT
UID:event-78@activebury.com
DTSTAMP:20260425T133821Z
SUMMARY:Lighthouse Christian Childcare 2
DTSTART:20260126T101500
DTEND:20260126T104500
LOCATION:Bookmobile
DESCRIPTION:This event is in the "Everyone" group 10:15am–10:45am Everyone Bookmobile Offsite Event This event is in the "Everyone" group Jan 26 2026 Mon Lighthouse Christian Childcare 2 10:15am–10:45am Bookmobile Bookmobile Everyone 26550 Ocean Gateway\nMore info: https://www.wicomicolibrary.org/event/lighthouse-christian-childcare-2-20331\nActiveBury: https://www.activebury.com/events/78
URL:https://www.activebury.com/events/78
END:VEVENT
END:VCALENDAR
