BEGIN:VCALENDAR
VERSION:2.0
PRODID:-//ActiveBury//Events//EN
CALSCALE:GREGORIAN
BEGIN:VEVENT
UID:event-77@activebury.com
DTSTAMP:20260425T133246Z
SUMMARY:Corner Campus
DTSTART:20260126T090000
DTEND:20260126T100000
LOCATION:Bookmobile
DESCRIPTION:This event is in the "Everyone" group 9:00am–10:00am Everyone Bookmobile Offsite Event This event is in the "Everyone" group Jan 26 2026 Mon Corner Campus 9:00am–10:00am Bookmobile Bookmobile Everyone 28430 Nanticoke Rd.\nMore info: https://www.wicomicolibrary.org/event/corner-campus-20322\nActiveBury: https://www.activebury.com/events/77
URL:https://www.activebury.com/events/77
END:VEVENT
END:VCALENDAR
