BEGIN:VCALENDAR
VERSION:2.0
PRODID:-//ActiveBury//Events//EN
CALSCALE:GREGORIAN
BEGIN:VEVENT
UID:event-76@activebury.com
DTSTAMP:20260425T133744Z
SUMMARY:Adventures In The Shire - D&D 5E
DTSTART:20260124T143000
DTEND:20260124T163000
LOCATION:Centre Branch
DESCRIPTION:This event is in the "Ages 18+" group 2:30pm–4:30pm Ages 18+ Centre Branch Closed Registration Available This event is in the "Ages 18+" group Jan 24 2026 Sat Adventures In The Shire - D&D 5E 2:30pm–4:30pm Centre Branch Closed Please note you are looking at an event that has already happened. Centre Branch The Space at Centre Ages 18+ Games Registration Available Come celebrate the re-release of the original Lord of the Rings films at the Centre Branch!\nMore info: https://www.wicomicolibrary.org/event/adventures-shire-dd-5e-23052\nActiveBury: https://www.activebury.com/events/76
URL:https://www.activebury.com/events/76
END:VEVENT
END:VCALENDAR
