BEGIN:VCALENDAR
VERSION:2.0
PRODID:-//ActiveBury//Events//EN
CALSCALE:GREGORIAN
BEGIN:VEVENT
UID:event-75@activebury.com
DTSTAMP:20260425T133247Z
SUMMARY:Crochet Corner
DTSTART:20260124T110000
DTEND:20260124T120000
LOCATION:Paul S. Sarbanes Branch
DESCRIPTION:This event is in the "Ages 6-11" group This event is in the "Ages 12-18" group This event is in the "Ages 18+" group 11:00am–12:00pm Ages 6-11\, Ages 12-18\, Ages 18+ Paul S. Sarbanes Branch Closed Registration Available This event is in the "Ages 6-11" group This event is in the "Ages 12-18" group This event is in the "Ages 18+" group Jan 24 2026 Sat Crochet Corner 11:00am–12:00pm Paul S. Sarbanes Branch Closed Please note you are looking at an event that has already happened. Paul S. Sarbanes Branch STEAM Studio Ages 6-11 \, Ages 12-18 \, Ages 18+ Arts and Crafts \, Class or Workshop Registration Available Whether you're brand new or a seasoned stitcher\, join us for Crochet Corner! We'll provide yarn and hooks to help you get started—no experience needed. This program is open to crocheters of\nMore info: https://www.wicomicolibrary.org/event/crochet-corner-21076\nActiveBury: https://www.activebury.com/events/75
URL:https://www.activebury.com/events/75
END:VEVENT
END:VCALENDAR
