BEGIN:VCALENDAR
VERSION:2.0
PRODID:-//ActiveBury//Events//EN
CALSCALE:GREGORIAN
BEGIN:VEVENT
UID:event-699@activebury.com
DTSTAMP:20260425T133739Z
SUMMARY:Brick City Book Swap
DTSTART;VALUE=DATE:20260123
DTEND;VALUE=DATE:20260124
LOCATION:Downtown Salisbury
DESCRIPTION:More info: https://www.instagram.com/brickrowmarket\nActiveBury: https://www.activebury.com/events/699
URL:https://www.activebury.com/events/699
END:VEVENT
END:VCALENDAR
