BEGIN:VCALENDAR
VERSION:2.0
PRODID:-//ActiveBury//Events//EN
CALSCALE:GREGORIAN
BEGIN:VEVENT
UID:event-69@activebury.com
DTSTAMP:20260425T163653Z
SUMMARY:Fruitland Primary School
DTSTART:20260122T091500
DTEND:20260122T153000
LOCATION:Bookmobile
DESCRIPTION:This event is in the "Everyone" group 9:15am–3:30pm Everyone Bookmobile Offsite Event This event is in the "Everyone" group Jan 22 2026 Thu Fruitland Primary School 9:15am–3:30pm Bookmobile Please note you are looking at an event that has already happened. Bookmobile Everyone 301 N. Division St.\nMore info: https://www.wicomicolibrary.org/event/fruitland-primary-school-20198\nActiveBury: https://www.activebury.com/events/69
URL:https://www.activebury.com/events/69
END:VEVENT
END:VCALENDAR
