BEGIN:VCALENDAR
VERSION:2.0
PRODID:-//ActiveBury//Events//EN
CALSCALE:GREGORIAN
BEGIN:VEVENT
UID:event-66@activebury.com
DTSTAMP:20260425T133830Z
SUMMARY:Family Law Help Services
DTSTART:20260121T130000
DTEND:20260121T160000
LOCATION:Mobile Learning Lab
DESCRIPTION:This event is in the "Ages 18+" group 1:00pm–4:00pm Ages 18+ Mobile Learning Lab Offsite Event This event is in the "Ages 18+" group Jan 21 2026 Wed Family Law Help Services 1:00pm–4:00pm Mobile Learning Lab Please note you are looking at an event that has already happened. Mobile Learning Lab Ages 18+ Other The Mobile Learning Lab will be parked at the Boys and Girls Club on Jersey Road.\nMore info: https://www.wicomicolibrary.org/event/family-law-help-services-20853\nActiveBury: https://www.activebury.com/events/66
URL:https://www.activebury.com/events/66
END:VEVENT
END:VCALENDAR
