BEGIN:VCALENDAR
VERSION:2.0
PRODID:-//ActiveBury//Events//EN
CALSCALE:GREGORIAN
BEGIN:VEVENT
UID:event-650@activebury.com
DTSTAMP:20260425T133739Z
SUMMARY:Galaxy Gymnastics Toddler Time
DTSTART:20260116T100000
DTEND:20260116T110000
LOCATION:337 Civic Ave\, Salisbury\, MD
DESCRIPTION:For all ages up to 5 years old. Come to play\, try out circuits\, on all events\, races\, and make friends!\n\n$5 per child.\nMore info: 337 Civic Ave\, Salisbury\, MD\nActiveBury: https://www.activebury.com/events/650
URL:https://www.activebury.com/events/650
END:VEVENT
END:VCALENDAR
