BEGIN:VCALENDAR
VERSION:2.0
PRODID:-//ActiveBury//Events//EN
CALSCALE:GREGORIAN
BEGIN:VEVENT
UID:event-642@activebury.com
DTSTAMP:20260425T133818Z
SUMMARY:Galaxy Gymnastics Open Gym
DTSTART:20260531T103000
DTEND:20260531T120000
LOCATION:337 Civic Ave\, Salisbury\, MD
DESCRIPTION:Open Gym from 10:30am-12pm\n\n$10 per person and/or child\nMore info: https://galaxygymnast.com/open-gyms/\nActiveBury: https://www.activebury.com/events/642
URL:https://www.activebury.com/events/642
END:VEVENT
END:VCALENDAR
