BEGIN:VCALENDAR
VERSION:2.0
PRODID:-//ActiveBury//Events//EN
CALSCALE:GREGORIAN
BEGIN:VEVENT
UID:event-64@activebury.com
DTSTAMP:20260425T133250Z
SUMMARY:Pemberton School
DTSTART:20260121T090000
DTEND:20260121T150000
LOCATION:Bookmobile
DESCRIPTION:This event is in the "Everyone" group 9:00am–3:00pm Everyone Bookmobile Offsite Event This event is in the "Everyone" group Jan 21 2026 Wed Pemberton School 9:00am–3:00pm Bookmobile Please note you are looking at an event that has already happened. Bookmobile Everyone 1300 Pemberton Dr.\nMore info: https://www.wicomicolibrary.org/event/pemberton-school-20154\nActiveBury: https://www.activebury.com/events/64
URL:https://www.activebury.com/events/64
END:VEVENT
END:VCALENDAR
